Workbook

Sheet 狗罐头
A1: 2024年宠物零食比较试验结果汇总表（狗罐头）
A2: 序号 | B2: 标称商品名称 | C2: 标称商标 | D2: 标称规格型号 | E2: 价格（元） | F2: 买样地点 | G2: 品牌方/运营商/经销商/生产商 | H2: 水分 | J2: 粗蛋白质 | L2: 粗脂肪 | N2: 粗纤维 | P2: 粗灰分 | R2: 钙（以Ca计） | T2: 总磷（以P计） | V2: 水溶性氯化物（以氯化钠计） | X2: 氨基酸
H3: % | J3: % | L3: % | N3: % | P3: % | R3: % | T3: % | V3: % | X3: %
H4: 标示值 | I4: 检测值 | J4: 标示值 | K4: 检测值 | L4: 标示值 | M4: 检测值 | N4: 标示值 | O4: 检测值 | P4: 标示值 | Q4: 检测值 | R4: 标示值 | S4: 检测值 | T4: 标示值 | U4: 检测值 | V4: 标示值 | W4: 检测值 | X4: 标示值 | Y4: 检测值
A5: 1 | B5: 全价乳钙健骨牛肉配方犬主食罐 | C5: 麦富迪 | D5: 100g*6 | E5: 50.46 | F5: 上海宠麦科技有限公司（麦富迪麦乐多专卖店）（淘宝） | G5: 乖宝宠物食品集团股份有限公司 | H5: =[1]SheetJS!$N$145 -> 80.0 | I5: =[1]SheetJS!$J$145 -> 70.3 | J5: 11 | K5: 13.51 | L5: 5 | M5: 6 | N5: 3 | O5: 1.1 | P5: 2.5 | Q5: 2.2 | R5: 0.25 | S5: 0.292 | T5: 0.22 | U5: 0.26 | V5: 0.1 | W5: 0.28 | X5: 0.2 | Y5: 1.1
A6: 2 | B6: 宠物零食-鸡肉丝补水罐 | C6: Hoopet/华元宠具 | D6: 85g*12 | E6: 27.8 | F6: 杭州华元宠物用品有限公司（华元宠物用品专营店（淘宝）） | G6: 杭州华元宠物用品有限公司/森森集团股份有限公司 | H6: =[1]SheetJS!$N$154 -> 95 | I6: =[1]SheetJS!$J$154 -> 88.8 | J6: 6 | K6: 7.3 | L6: 0.1 | M6: 0.6 | N6: 1 | O6: 未检出 | P6: 1 | Q6: 0.9 | R6: / | S6: / | T6: / | U6: / | V6: / | W6: / | X6: / | Y6: /
A7: 3 | B7: 全价宠物主食犬罐 | C7: 海洋之星 | D7: 170g*8 | E7: 85 | F7: 宠控创新科技有限公司（海洋之星官方旗舰店（淘宝）） | G7: 宠控创新科技有限公司/山东派森食品有限公司 | H7: =[1]SheetJS!$N$159 -> 80 | I7: =[1]SheetJS!$J$159 -> 71.7 | J7: 10 | K7: 15.5 | L7: 4 | M7: 5 | N7: 1 | O7: 未检出 | P7: 2.5 | Q7: 2.2 | R7: 0.22 | S7: 0.306 | T7: 0.2 | U7: 0.27 | V7: 0.1 | W7: 0.58 | X7: 0.35 | Y7: 1.31
A8: 4 | B8: 宠物零食犬用膳食罐头牛肉味 | C8: 多可特 | D8: 85g*20 | E8: 45.6 | F8: 光橙（上海）信息科技有限公司（波奇网官方旗舰店（京东）） | G8: 欣橙（上海）信息科技有限公司/上海怡亲宠物用品有限公司/北京可亚鑫德食品有限公司邯郸分公司 | H8: =[1]SheetJS!$N$168 -> 82 | I8: =[1]SheetJS!$J$168 -> 76.0 | J8: 5 | K8: 7.06 | L8: 1 | M8: 4.1 | N8: 2 | O8: 未检出 | P8: 3 | Q8: 2 | R8: / | S8: / | T8: / | U8: / | V8: / | W8: / | X8: / | Y8: /
A9: 5 | B9: 宠物零食 犬用缤纷肉肉罐 | C9: 网易天成 | D9: 170g*12 | E9: 57.42 | F9: 杭州网易严选贸易有限公司（网易严选京东自营旗舰店(京东）） | G9: 杭州网易严选贸易有限公司/杭州网易严选贸易有限公司/山东汉欧生物科技有限公司 | H9: =[1]SheetJS!$N$173 -> 88.0 | I9: =[1]SheetJS!$J$173 -> 78.3 | J9: 5 | K9: 6.46 | L9: 1 | M9: 3.5 | N9: 2 | O9: 未检出 | P9: 3 | Q9: 1.5 | R9: / | S9: / | T9: / | U9: / | V9: / | W9: / | X9: / | Y9: /
A10: 6 | B10: 宠物零食蛋黄鸡块罐头 | C10: 疯狂小狗 | D10: 100g*6 | E10: 35.61 | F10: （徐州苏宠宠物用品有限公司）（疯狂小狗京东自营官方旗舰店（京东）） | G10: 徐州苏宠宠物用品有限公司/安徽安宠宠物用品有限公司（F1321）、青岛康大食品有限公司康宠分公司 | H10: =[1]SheetJS!$N$178 -> 80 | I10: =[1]SheetJS!$J$178 -> 76.4 | J10: 10 | K10: 17.16 | L10: 3 | M10: 5.9 | N10: 1 | O10: 未检出 | P10: 3 | Q10: 0.9 | R10: / | S10: / | T10: / | U10: / | V10: / | W10: / | X10: / | Y10: /
A11: 7 | B11: 宠物零食 犬用罐头 | C11: 睿尔派 | D11: 85g*12 | E11: 21.8 | F11: 河北有熊电子商务有限公司（力狼旗舰店（抖音）） | G11: 华兴宠物食品有限公司 | H11: =[1]SheetJS!$N$183 -> 90 | I11: =[1]SheetJS!$J$183 -> 89.4 | J11: 5 | K11: 11.88 | L11: 0.5 | M11: 0.6 | N11: 2 | O11: 1.2 | P11: 2 | Q11: 0.5 | R11: / | S11: / | T11: / | U11: / | V11: / | W11: / | X11: / | Y11: /
A12: 8 | B12: 宠物零食-犬用罐头（鲜享罐） | C12: K9 | D12: 100g*18 | E12: 55.94 | F12: 北京市中闽威威商贸有限公司（K9宠物零食旗舰店（抖音)） | G12: 北京市中闽威威商贸有限公司/北京市中闽威威商贸有限公司/漳州科德隆宠物食品有限公司 | H12: =[1]SheetJS!$N$186 -> 85.0 | I12: =[1]SheetJS!$J$186 -> 82.3 | J12: 60（以干基计） | K12: 75.77（以干基计） | L12: 13（以干基计） | M12: 29（以干基计） | N12: 4（以干基计） | O12: 3.4（以干基计） | P12: 5（以干基计） | Q12: 3（以干基计） | R12: / | S12: / | T12: / | U12: / | V12: / | W12: / | X12: / | Y12: /
A13: 9 | B13: 宠物零食心零鸡汤 | C13: 益和 | D13: 100g*12 | E13: 52.5 | F13: 江苏益和宠物用品有限公司（益和宠物旗舰店（抖音）） | G13: 江苏益和宠物用品有限公司/江苏益宠生物科技有限公司 | H13: =[1]SheetJS!$N$190 -> 83.0 | I13: =[1]SheetJS!$J$190 -> 80.5 | J13: 10 | K13: 16.66 | L13: 1 | M13: 1.5 | N13: 2 | O13: 未检出 | P13: 2 | Q13: 0.5 | R13: / | S13: / | T13: / | U13: / | V13: / | W13: / | X13: / | Y13: /
A14: 10 | B14: 宠物零食犬用罐头 | C14: HAPPY100 | D14: 375g*6 | E14: 20.6 | F14: 烟台顽皮宠物用品销售有限公司（顽皮官方旗舰店（拼多多）） | G14: 烟台中宠食品股份有限公司 | H14: =[1]SheetJS!$N$195 -> 84.0 | I14: =[1]SheetJS!$J$195 -> 79.4 | J14: 5 | K14: 6.75 | L14: 3 | M14: 3.1 | N14: 2 | O14: 未检出 | P14: 3.5 | Q14: 2.6 | R14: / | S14: / | T14: / | U14: / | V14: / | W14: / | X14: / | Y14: /
A15: 11 | B15: 宠物零食狗罐头 | C15: 奇妙萌宠 | D15: 170g*12 | E15: 28.8 | F15: 南和倍祥宠物食品有限公司（奇妙萌宠宠物食品用品官方旗舰店（拼多多）） | G15: 南和倍祥宠物食品有限公司、邢台市爱萌宠物食品有限公司 | H15: =[1]SheetJS!$N$200 -> 84.05 | I15: =[1]SheetJS!$J$200 -> 78.0 | J15: 17.6 | K15: 4.64 | L15: 1.79 | M15: 3.6 | N15: 1 | O15: 未检出 | P15: 2.5 | Q15: 2.4 | R15: 0.05 | S15: 0.396 | T15: / | U15: / | V15: / | W15: / | X15: / | Y15: /
A16: 12 | B16: 宠物零食犬罐头 | C16: 凯锐思 | D16: 170g*8 | E16: 49 | F16: 济南冠能宠物用品有限公司（凯锐思品牌旗舰店（拼多多）） | G16: 山东凯锐思动物营养有限公司/北京可亚鑫德食品有限公司邯郸分公司 | H16: =[1]SheetJS!$N$203 -> 80.0 | I16: =[1]SheetJS!$J$203 -> 73.4 | J16: / | K16: / | L16: / | M16: / | N16: / | O16: / | P16: / | Q16: / | R16: / | S16: / | T16: / | U16: / | V16: / | W16: / | X16: / | Y16: /
A17: 13 | B17: 宠物零食牛肉罐头 | C17: 俘获 | D17: 375g*6 | E17: 39.9 | F17: 南昌市索米尔家居有限公司（俘获旗舰店（小红书）） | G17: 南昌市索米尔家居有限公司/山东宠冠动物营养有限公司 | H17: =[1]SheetJS!$N$206 -> 88 | I17: =[1]SheetJS!$J$206 -> 82.9 | J17: 5 | K17: 5.52 | L17: 2.5 | M17: 2.9 | N17: 1 | O17: 未检出 | P17: 2 | Q17: 1 | R17: / | S17: / | T17: / | U17: / | V17: / | W17: / | X17: / | Y17: /
A18: 14 | B18: 宠物零食犬用 | C18: MeatyWay | D18: 130g*3 | E18: 75 | F18: 佩蒂智创（杭州）宠物科技有限公司（MeatyWay爵宴旗舰店(小红书）） | G18: 佩蒂智创（杭州）宠物科技股份有限公司/佩蒂动物营养科技股份有限公司 | H18: =[1]SheetJS!$N$209 -> 79 | I18: =[1]SheetJS!$J$209 -> 78.1 | J18: 55（以干基计） | K18: 91.6（以干基计） | L18: 5（以干基计） | M18: 10.1（以干基计） | N18: 5（以干基计） | O18: 5（以干基计） | P18: 7（以干基计） | Q18: 4.4（以干基计） | R18: / | S18: / | T18: / | U18: / | V18: / | W18: / | X18: / | Y18: /
A19: 15 | B19: 鸡肉主食罐头 | C19: 小泥糊 | D19: 170g*6 | E19: 98 | F19: 广州辰之贸商贸有限公司（小泥糊旗舰店（小红书)） | G19: 漳州萌冠宠物食品有限公司 | H19: =[1]SheetJS!$N$211 -> 78.0 | I19: =[1]SheetJS!$J$211 -> 74.9 | J19: 32（以干基计） | K19: 32.55（以干基计） | L19: 15（以干基计） | M19: 19.6（以干基计） | N19: 2（以干基计） | O19: 未检出 | P19: 10（以干基计） | Q19: 7.4（以干基计） | R19: 1.2（以干基计） | S19: 3.34（以干基计） | T19: 1（以干基计） | U19: 2（以干基计） | V19: / | W19: / | X19: / | Y19: /
A20: 16 | B20: 宠物零食-贵宾犬专用罐头 | C20: 耐威克 | D20: 100g*6 | E20: 35 | F20: 上海耐威克宠物用品有限公司（上海耐威克宠物用品官方旗舰店（唯品会）） | G20: 上海耐威克宠物用品有限公司/上海耐威克宠物用品有限公司 | H20: =[1]SheetJS!$N$215 -> 85 | I20: =[1]SheetJS!$J$215 -> 76.6 | J20: 6 | K20: 10.38 | L20: 1.5 | M20: 8.1 | N20: 2 | O20: 1.9 | P20: 5 | Q20: 2.2 | R20: / | S20: / | T20: / | U20: / | V20: / | W20: / | X20: / | Y20: /

Sheet 猫条
A1: 2024年宠物零食比较试验结果汇总表（猫条）
A2: 序号 | B2: 标称商品名称 | C2: 标称商标 | D2: 标称规格型号 | E2: 价格（元） | F2: 买样地点 | G2: 品牌方/经销商/生产商 | H2: 水分 | J2: 粗蛋白质 | L2: 粗脂肪 | N2: 粗纤维 | P2: 粗灰分
H3: % | J3: % | L3: % | N3: % | P3: %
H4: 标示值 | I4: 检测值 | J4: 标示值 | K4: 检测值 | L4: 标示值 | M4: 检测值 | N4: 标示值 | O4: 检测值 | P4: 标示值 | Q4: 检测值
A5: 1 | B5: 多特思鲜肉流质猫咪零食 | C5: DOTUS/多特思 | D5: 15g*100支 | E5: 48 | F5: 北京派得电子商务有限公司（淘宝多特思旗舰店） | G5: 德州派得宠物食品有限公司 | H5: 88 | I5: 85.2 | J5: 4 | K5: 4.48 | L5: 2.5 | M5: 4.3 | N5: 2.5 | O5: 未检出 | P5: 1.5 | Q5: 0.7
A6: 2 | B6: 诚实一口好多条TM宠物零食猫条三文鱼口味 | C6: 诚实一口 | D6: 10g×5 | E6: 5.41 | F6: 上海简谟生物技术有限公司（淘宝诚实一口旗舰店） | G6: 上海简谟生物技术有限公司/烟台中宠宠物食品有限公司 | H6: 82 | I6: 74.3 | J6: 12 | K6: 13.16 | L6: 4 | M6: 6.2 | N6: 2 | O6: 1.6 | P6: 2 | Q6: 1.1
A7: 3 | B7: 欧一吸宠物零食猫条 | C7: Wanpy/顽皮 | D7: 70g（14g×5）*5包 | E7: 25.93 | F7: 山东顽皮国际贸易有限公司（淘宝wanpy顽皮旗舰店） | G7: 烟台中宠宠物食品有限公司 | H7: 90 | I7: 84 | J7: 6.5 | K7: 10.06 | L7: 0.02 | M7: 1.3 | N7: 1 | O7: 未检出 | P7: 2 | Q7: 0.8
A8: 4 | B8: 宠物零食.猫用.湿粮包 | C8: 阿飞和巴弟 | D8: 15g×5支 | E8: 8.11 | F8: 天津宠次元宠物用品销售有限公司（淘宝阿飞和巴弟旗舰店） | G8: 天津宠次元宠物用品销售有限公司/山东派森食品有限公司 | H8: 82 | I8: 74.3 | J8: 12 | K8: 17.27 | L8: 2.5 | M8: 6.3 | N8: 1 | O8: 未检出 | P8: 2 | Q8: 0.9
A9: 5 | B9: 宠物零食鸡肉条 | C9: 凯锐思 | D9: 10g×100支 | E9: 95 | F9: 济南严选宠物用品有限公司（京东凯锐思旗舰店） | G9: 山东凯锐思动物营养有限公司/上海比瑞吉宠物用品股份有限公司 | H9: 84 | I9: 79.2 | J9: 10 | K9: 11.48 | L9: 0.5 | M9: 2.4 | N9: 2 | O9: 1.6 | P9: 1.6 | Q9: 1
A10: 6 | B10: 猫用宠物零食金枪鱼 | C10: 伊纳宝 | D10: 14g*4*6支 | E10: 46.25 | F10: 伊纳宝宠物食品京东自营旗舰店 | G10: 青岛稻进食品有限公司 | H10: 91 | I10: 84.2 | J10: 6 | K10: 8.6 | L10: 0.2 | M10: 0.5 | N10: 1 | O10: 未检出 | P10: 2.5 | Q10: 1.6
A11: 7 | B11: 鲜肉猫条 三文鱼配方 | C11: 神经猫 | D11: 15g×30条 | E11: 8.25 | F11: 南京嬉皮狗宠物用品有限公司（唯品会嬉皮狗宠物用品官方特卖旗舰店） | G11: 淮安神经猫宠物用品有限公司/山东美宠宠物用品有限公司 | H11: 83 | I11: 81 | J11: 12.5 | K11: 6.14 | L11: 3.2 | M11: 4 | N11: 1.5 | O11: 未检出 | P11: 2 | Q11: 1.8
A12: 8 | B12: 宠物零食 | C12: 关谷庄 | D12: 15g*100支 | E12: 29.8 | F12: 汉美创想（临沂）科技有限公司（抖音关谷庄宠物食品旗舰店） | G12: 山东猎宴宠物食品有限公司 | H12: 87 | I12: 76.2 | J12: 40（以干基计） | K12: 29.5（以干基计） | L12: 12（以干基计） | M12: 30.6（以干基计） | N12: 5（以干基计） | O12: 2.2（以干基计） | P12: 10（以干基计） | Q12: 7.6（以干基计）
A13: 9 | B13: 宠物零食 美毛协奏曲猫条 | C13: 网易天成 | D13: 12克×6支 | E13: 8.32 | F13: 杭州网易严选贸易有限公司（抖音网易严选宠物官方旗舰店） | G13: 杭州网易严选贸易有限公司/山东派森食品有限公司 | H13: 82 | I13: 73.6 | J13: 12 | K13: 15.88 | L13: 3 | M13: 5 | N13: 1 | O13: 未检出 | P13: 2 | Q13: 1
A14: 10 | B14: 宠物零食猫条（三文鱼+鸡肉） | C14: 江小傲 | D14: 10g×16条 | E14: 51 | F14: 浙江吉宠商贸有限公司（抖音江小傲旗舰店） | G14: 浙江吉宠商贸有限公司/中誉宠物食品（漯河）有限公司 | H14: 83 | I14: 78 | J14: 10 | K14: 13.1 | L14: 1.8 | M14: 4 | N14: 1.2 | O14: 未检出 | P14: 2 | Q14: 0.7
A15: 11 | B15: kiss fish亲嘴鱼 | C15: 麦富迪 | D15: 70g（5支装）加赠5支 | E15: 26.33 | F15: 山东麦富迪贸易发展有限公司（快手麦富迪宠物食品旗舰店） | G15: 乖宝宠物食品集团股份有限公司 | H15: 88 | I15: 79.6 | J15: 9 | K15: 14.8 | L15: 1.5 | M15: 3 | N15: 1 | O15: 未检出 | P15: 2 | Q15: 0.9
A16: 12 | B16: 宠物零食 成猫用慕斯勺 含鲣鱼配方 添加三文鱼 | C16: 佳乐滋 | D16: 10g×4支 | E16: 19.77 | F16: 游仁信息科技（上海）有限公司（淘宝佳乐滋旗舰店） | G16: 尤妮佳生活用品（中国）有限公司/Unicord Oublic Company Limited | H16: 90 | I16: 84.6 | J16: 7 | K16: 9.06 | L16: 0.1 | M16: 0.2 | N16: 1 | O16: 未检出 | P16: 3 | Q16: 1.2
A17: 13 | B17: 宠物零食三文鱼沙棘猫条 | C17: 佰萃粮 | D17: 70g（14g×5）*2包 | E17: 24 | F17: 山东麦富迪贸易发展有限公司（唯品会佰萃粮宠物食品官方特卖旗舰店） | G17: 乖宝宠物食品集团股份有限公司 | H17: 85 | I17: 81.5 | J17: 6.5 | K17: 10.4 | L17: 0.2 | M17: 3.4 | N17: 2 | O17: 1 | P17: 3 | Q17: 1.2
A18: 14 | B18: 超微植萃化毛猫条 | C18: 猫森林 | D18: 15g×14支 | E18: 22.61 | F18: 宁波玲宠生物科技有限公司（唯品会玲宠宠物专营店） | G18: 江苏麦乐多科技有限公司/山东派森食品有限公司 | H18: 83 | I18: 73.7 | J18: 10.8 | K18: 16.07 | L18: 1.5 | M18: 4.9 | N18: 1.5 | O18: 1.1 | P18: 2 | Q18: 0.9
A19: 15 | B19: 宠物零食 | C19: 汪崽福 | D19: 18g*100支 | E19: 28.56 | F19: 成都八届电子商务有限公司（拼多多八界宠物用品专营店） | G19: 成都八届电子商务有限公司/邢台腾跃宠物食品有限公司 | H19: 88 | I19: 83.3 | J19: 8 | K19: 3.7 | L19: 0.6 | M19: 3.7 | N19: 1.2 | O19: 未检出 | P19: 1 | Q19: 0.9
A20: 16 | B20: 宠物零食咕咕条 | C20: LEGENDSANDY/蓝氏 | D20: 144g（12g×12支） | E20: 26.13 | F20: 江苏蓝色麦田科技有限公司（拼多多legendsandy宠物用品官方旗舰店） | G20: 江苏蓝色麦田科技有限公司/潍坊平和园食品有限公司 | H20: 82 | I20: 75 | J20: 12（以干基计） | K20: 58.42（以干基计） | L20: 2（以干基计） | M20: 21.1（以干基计） | N20: 1（以干基计） | O20: 1（以干基计） | P20: 2（以干基计） | Q20: 1.9（以干基计）

Sheet 自制零食
A1: 2024年宠物零食比较试验结果汇总表（自制零食）
A2: 序号 | B2: 标称商品名称 | C2: 标称商标 | D2: 标称规格型号 | E2: 价格（元） | F2: 买样地点 | G2: 品牌方/经销商/生产商 | H2: 细菌总数 | J2: 沙门氏菌
H3: CFU/g | J3: =[2]微生物!$F$4 -> /25g
H4: <1×104（参考全价宠物食品） | I4: 检测值 | J4: 不得检出 | K4: 检测值
A5: 1 | B5: 三文鱼饼 | C5: / | D5: 100g/包 | E5: 15.37 | F5: 淘宝无忧自制宠物私厨 | G5: 临沂市临沐县店头镇无忧宠物食品店 | H5: <1×104 | I5: =[2]微生物!$E$2 -> 2.4×10³ | J5: 不得检出 | K5: =[2]微生物!$E$4 -> 未检出
A6: 2 | B6: 自制拌粮什锦蔬菜干 | C6: / | D6: 350克/份 | E6: 21.72 | F6: 日照海派宠物食品有限公司（淘宝福禄妈家自制宠物零食食品店） | G6: 福禄妈自制宠物零食淘宝店 | H6: <1×104 | I6: =[2]微生物!$E$6 -> 2.5×10³ | J6: 不得检出 | K6: =[2]微生物!$E$4 -> 未检出
A7: 3 | B7: 鸡鸭双拼肉干 | C7: / | D7: 200g/包 | E7: 24 | F7: 永嘉县小豆宠物食品网店（拼多多小豆宠物零食铺） | G7: / | H7: <1×104 | I7: =[2]微生物!$E$10 -> 2.9×10⁵ | J7: 不得检出 | K7: =[2]微生物!$E$4 -> 未检出
A8: 4 | B8: 无添加风干鸭肉条 | C8: 福禄妈 | D8: 100克×3包 | E8: 43.8 | F8: 日照海派宠物食品有限公司（福禄妈家自制宠物零食食品店(淘宝）） | G8: 福禄妈自制宠物零食淘宝店 | H8: <1×104 | I8: =[2]微生物!$E$14 -> 1.5×10⁵ | J8: 不得检出 | K8: =[2]微生物!$E$4 -> 未检出
A9: 5 | B9: 风干牛肝片 | C9: 肉丸家自制宠物零食 | D9: 100g/份 | E9: 9.8 | F9: 肉丸家自制宠物零食（淘宝） | G9: 肉丸家资质宠物零食淘宝店 | H9: <1×104 | I9: =[2]微生物!$E$18 -> 2.8×10⁶ | J9: 不得检出 | K9: =[2]微生物!$E$4 -> 未检出
A10: 6 | B10: 鸭肉绕蛋黄 | C10: 宠德莱 | D10: 100克*3包 | E10: 28.45 | F10: 杭州麦乐迪宠物用品有限公司（拼多多宠德莱官方旗舰店） | G10: 温州市崇光宠物用品有限公司 | H10: <1×104 | I10: =[2]微生物!$E$22 -> 5.3×10⁴ | J10: 不得检出 | K10: =[2]微生物!$E$4 -> 未检出
